BEGIN:VCALENDAR
VERSION:2.0
PRODID:-//Graham MacLauren - Scottish Psychic Medium - ECPv6.0.10//NONSGML v1.0//EN
CALSCALE:GREGORIAN
METHOD:PUBLISH
X-ORIGINAL-URL:https://test.grahammaclauren.co.uk
X-WR-CALDESC:Events for Graham MacLauren - Scottish Psychic Medium
REFRESH-INTERVAL;VALUE=DURATION:PT1H
X-Robots-Tag:noindex
X-PUBLISHED-TTL:PT1H
BEGIN:VTIMEZONE
TZID:Europe/London
BEGIN:DAYLIGHT
TZOFFSETFROM:+0000
TZOFFSETTO:+0100
TZNAME:BST
DTSTART:20230326T010000
END:DAYLIGHT
BEGIN:STANDARD
TZOFFSETFROM:+0100
TZOFFSETTO:+0000
TZNAME:GMT
DTSTART:20231029T010000
END:STANDARD
END:VTIMEZONE
BEGIN:VEVENT
DTSTART;TZID=Europe/London:20231026T183000
DTEND;TZID=Europe/London:20231026T220000
DTSTAMP:20260421T141942
CREATED:20231001T135850Z
LAST-MODIFIED:20231001T135850Z
UID:2783-1698345000-1698357600@test.grahammaclauren.co.uk
SUMMARY:An Audience with the Angels - C.I.S.W.O. (Glenrothes)
DESCRIPTION:An evening not to be missed where Graham will use his Psychic and Mediumistic abilities to connect you to your loved ones in Spirit. \nA unique and intimate night where he will give you guidance and insight into your own life through the whispers of your loved ones in Heaven. These heartfelt messages will leave you with no doubt that your loved ones still walk beside you everyday. \nGraham has a very fun and down to earth personality and his passion to his work with the Spirit World leaves audiences amazed by the accuracy of information he receives. \nAn emotional evening which will heal hearts and continue to unite families \nDoors open 6.45 pm \nShow starts 7.30 pm
URL:https://test.grahammaclauren.co.uk/event/an-audience-with-the-angels-c-i-s-w-o-glenrothes/
LOCATION:CISWO\, 390 South Street\, Glenrothes\, Fife\, KY7 5NL\, United Kingdom
END:VEVENT
BEGIN:VEVENT
DTSTART;TZID=Europe/London:20231019T183000
DTEND;TZID=Europe/London:20231019T220000
DTSTAMP:20260421T141942
CREATED:20230930T115642Z
LAST-MODIFIED:20230930T115642Z
UID:2779-1697740200-1697752800@test.grahammaclauren.co.uk
SUMMARY:An Audience with the Angels - Morecambe
DESCRIPTION:An evening not to be missed where Graham will use his Psychic and Mediumistic abilities to connect you to your loved ones in Spirit. \nA unique and intimate night where he will give you guidance and insight into your own life through the whispers of your loved ones in Heaven. These heartfelt messages will leave you with no doubt that your loved ones still walk beside you everyday. \nGraham has a very fun and down to earth personality and his passion to his work with the Spirit World leaves audiences amazed by the accuracy of information he receives. \nAn emotional evening which will heal hearts and continue to unite families \nDoors open 6.45 pm \nShow starts 7.30 pm
URL:https://test.grahammaclauren.co.uk/event/an-audience-with-the-angels-morecambe/
LOCATION:Vale of Lune Rugby Club\, Powder House Lane\, Morecambe\, Lancaster\, LA1 2TT\, United Kingdom
END:VEVENT
BEGIN:VEVENT
DTSTART;TZID=Europe/London:20231018T183000
DTEND;TZID=Europe/London:20231018T220000
DTSTAMP:20260421T141942
CREATED:20230930T114422Z
LAST-MODIFIED:20231001T191126Z
UID:2774-1697653800-1697666400@test.grahammaclauren.co.uk
SUMMARY:An Audience With The Angels - Carnforth
DESCRIPTION:An evening not to be missed where Graham will use his Psychic and Mediumistic abilities to connect you to your loved ones in Spirit. \nA unique and intimate night where he will give you guidance and insight into your own life through the whispers of your loved ones in Heaven. These heartfelt messages will leave you with no doubt that your loved ones still walk beside you everyday. \nGraham has a very fun and down to earth personality and his passion to his work with the Spirit World leaves audiences amazed by the accuracy of information he receives. \nAn emotional evening which will heal hearts and continue to unite families \nDoors open 6.45 pm \nShow starts 7.30 pm
URL:https://test.grahammaclauren.co.uk/event/2774/
LOCATION:Carnforth Ex-Servicemen’s Club\, Scotland Road\, Carnforth\, Lancashire\, LA5 9JY\, United Kingdom
END:VEVENT
BEGIN:VEVENT
DTSTART;TZID=Europe/London:20231017T183000
DTEND;TZID=Europe/London:20231017T220000
DTSTAMP:20260421T141942
CREATED:20230930T113048Z
LAST-MODIFIED:20230930T113249Z
UID:2770-1697567400-1697580000@test.grahammaclauren.co.uk
SUMMARY:An Audience with the Angels - Carlisle
DESCRIPTION:An evening not to be missed where Graham will use his Psychic and Mediumistic abilities to connect you to your loved ones in Spirit. \nA unique and intimate night where he will give you guidance and insight into your own life through the whispers of your loved ones in Heaven. These heartfelt messages will leave you with no doubt that your loved ones still walk beside you everyday. \nGraham has a very fun and down to earth personality and his passion to his work with the Spirit World leaves audiences amazed by the accuracy of information he receives. \nAn emotional evening which will heal hearts and continue to unite families \nDoors open 6.45 pm \nShow starts 7.30 pm
URL:https://test.grahammaclauren.co.uk/event/an-audience-with-the-angels-carlisle/
LOCATION:Carlisle Ex-Servicemen’s Club\, 1 Albert Street\, Carlisle\, CA1 1HZ\, United Kingdom
END:VEVENT
BEGIN:VEVENT
DTSTART;TZID=Europe/London:20231013T183000
DTEND;TZID=Europe/London:20231013T220000
DTSTAMP:20260421T141942
CREATED:20230930T111935Z
LAST-MODIFIED:20230930T111935Z
UID:2766-1697221800-1697234400@test.grahammaclauren.co.uk
SUMMARY:An Audience with the Angels - Kelty
DESCRIPTION:An evening not to be missed where Graham will use his Psychic and Mediumistic abilities to connect you to your loved ones in Spirit. \nA unique and intimate night where he will give you guidance and insight into your own life through the whispers of your loved ones in Heaven. These heartfelt messages will leave you with no doubt that your loved ones still walk beside you everyday. \nGraham has a very fun and down to earth personality and his passion to his work with the Spirit World leaves audiences amazed by the accuracy of information he receives. \nAn emotional evening which will heal hearts and continue to unite families \nDoors open 6.45 pm \nShow starts 7.30 pm
URL:https://test.grahammaclauren.co.uk/event/an-audience-with-the-angels-kelty/
LOCATION:Kelty Ex-Servicemen’s Club\, Cocklaw Street\, Kelty\, Fife\, KY4 ODD\, United Kingdom
END:VEVENT
BEGIN:VEVENT
DTSTART;TZID=Europe/London:20231011T183000
DTEND;TZID=Europe/London:20231011T220000
DTSTAMP:20260421T141942
CREATED:20230930T110407Z
LAST-MODIFIED:20230930T110407Z
UID:2761-1697049000-1697061600@test.grahammaclauren.co.uk
SUMMARY:An Audience with the Angels - Perth
DESCRIPTION:An evening not to be missed where Graham will use his Psychic and Mediumistic abilities to connect you to your loved ones in Spirit. \nA unique and intimate night where he will give you guidance and insight into your own life through the whispers of your loved ones in Heaven. These heartfelt messages will leave you with no doubt that your loved ones still walk beside you everyday. \nGraham has a very fun and down to earth personality and his passion to his work with the Spirit World leaves audiences amazed by the accuracy of information he receives. \nAn emotional evening which will heal hearts and continue to unite families \nDoors open 6.45 pm \nShow starts 7.30 pm
URL:https://test.grahammaclauren.co.uk/event/an-audience-with-the-angels-perth/
LOCATION:Perth Ex-Servicemen’s Club\, 20 Milne Street\, Perth\, PH1 5QL\, United Kingdom
END:VEVENT
BEGIN:VEVENT
DTSTART;TZID=Europe/London:20231010T183000
DTEND;TZID=Europe/London:20231010T220000
DTSTAMP:20260421T141942
CREATED:20230930T105241Z
LAST-MODIFIED:20230930T105241Z
UID:2757-1696962600-1696975200@test.grahammaclauren.co.uk
SUMMARY:An Audience with the Angels - The Goth
DESCRIPTION:An evening not to be missed where Graham will use his Psychic and Mediumistic abilities to connect you to your loved ones in Spirit. \nA unique and intimate night where he will give you guidance and insight into your own life through the whispers of your loved ones in Heaven. These heartfelt messages will leave you with no doubt that your loved ones still walk beside you everyday. \nGraham has a very fun and down to earth personality and his passion to his work with the Spirit World leaves audiences amazed by the accuracy of information he receives. \nAn emotional evening which will heal hearts and continue to unite families \nDoors open 6.45 pm \nShow starts 7 pm
URL:https://test.grahammaclauren.co.uk/event/an-audience-with-the-angels-the-goth/
LOCATION:The Goth\, 48 West Main Street\, Armadale\, Bathgate\, EH48 3QA\, United Kingdom
END:VEVENT
BEGIN:VEVENT
DTSTART;TZID=Europe/London:20230629T190000
DTEND;TZID=Europe/London:20230629T220000
DTSTAMP:20260421T141942
CREATED:20230227T220000Z
LAST-MODIFIED:20230304T010820Z
UID:2577-1688065200-1688076000@test.grahammaclauren.co.uk
SUMMARY:An Evening of Psychic Clairvoyant Mediumship
DESCRIPTION:!!!!!!!!BACK BY POPULAR DEMAND!!!!!!! \nJOIN US FOR AN EVENING OF PSYCHIC FUN AS INTERNATIONAL MEDIUM GRAHAM MACLAUREN COMES TO DALBEATTIE ONCE AGAIN. \nTICKETS CAN BE PURCHASED FROM THE CUM YE INN – O1556 288020 \nSHOW STARTS 7.00PM-10PM \n[contact-form-7 404 "Not Found"]
URL:https://test.grahammaclauren.co.uk/event/an-evening-of-psychic-clairvoyant-mediumship-5/
LOCATION:CUM YE INN\, 94 HIGH STREET\, DALBEATTIE\, DUMFRIES AND GALLOWAY\, DG5 4HB\, United Kingdom
END:VEVENT
BEGIN:VEVENT
DTSTART;TZID=Europe/London:20230622T183000
DTEND;TZID=Europe/London:20230622T220000
DTSTAMP:20260421T141942
CREATED:20230227T185554Z
LAST-MODIFIED:20230227T223406Z
UID:2554-1687458600-1687471200@test.grahammaclauren.co.uk
SUMMARY:An Evening of Psychic Clairvoyant Mediumship
DESCRIPTION:Join us for an evening of Psychic Clairvoyant Mediumship with International award winning Psychic Medium Graham MacLauren. \nGraham will connect to the Spirit world and bring you evidence from your loved ones in the Spirit World showing they are near and around you. This will be a fun evening where we can heal hearts and unite families with thier loved ones in the Spirit World. \nShow begins at 7.30pm sharp
URL:https://test.grahammaclauren.co.uk/event/2554/
LOCATION:The Leonardo Hotel\, 187 Clermiston Road\, Edinburgh\, EH12 6UG\, United Kingdom
END:VEVENT
BEGIN:VEVENT
DTSTART;TZID=Europe/London:20230615T183000
DTEND;TZID=Europe/London:20230615T220000
DTSTAMP:20260421T141942
CREATED:20230227T190643Z
LAST-MODIFIED:20230227T223221Z
UID:2558-1686853800-1686866400@test.grahammaclauren.co.uk
SUMMARY:An Evening of Psychic Clairvoyant Mediumship
DESCRIPTION:Join us for an evening of Psychic Clairvoyant Mediumship with International award winning Psychic Medium Graham MacLauren. \nGraham will connect to the Spirit world and bring you evidence from your loved ones in the Spirit World showing they are near and around you. This will be a fun evening where we can heal hearts and unite families with thier loved ones in the Spirit World. \nShow begins at 7.30pm sharp
URL:https://test.grahammaclauren.co.uk/event/2558/
LOCATION:The Garfield Hotel\, Cummbernasuld Road\, Stepps\, Glasgow\, G33 6HW\, United Kingdom
END:VEVENT
BEGIN:VEVENT
DTSTART;TZID=Europe/London:20230518T183000
DTEND;TZID=Europe/London:20230518T220000
DTSTAMP:20260421T141942
CREATED:20230227T173841Z
LAST-MODIFIED:20230227T223042Z
UID:2534-1684434600-1684447200@test.grahammaclauren.co.uk
SUMMARY:An Evening of Psychic Clairvoyant Mediumship
DESCRIPTION:Join us for an evening of Psychic Clairvoyant Mediumship with International award winning Psychic Medium Graham MacLauren. \nGraham will connect to the Spirit world and bring you evidence from your loved ones in the Spirit World showing they are near and around you. This will be a fun evening where we can heal hearts and unite families with thier loved ones in the Spirit World. \nShow begins at 7.30pm sharp
URL:https://test.grahammaclauren.co.uk/event/2534/
LOCATION:Ravelston House Hotel\, 182 North High Street\, Musselburgh\, Edinburgh\, EH21 6BH\, United Kingdom
END:VEVENT
BEGIN:VEVENT
DTSTART;TZID=Europe/London:20230513T183000
DTEND;TZID=Europe/London:20230513T220000
DTSTAMP:20260421T141942
CREATED:20230227T214703Z
LAST-MODIFIED:20230227T222933Z
UID:2574-1684002600-1684015200@test.grahammaclauren.co.uk
SUMMARY:An Evening of Psychic Clairvoyant Mediumship
DESCRIPTION:This event will sell our fast so please don’t delay tickets are limited!!!!!!!!! \nGraham will connect to the Spirit World and deliver messages from your loved ones to you proving life continues after death. This unites families and heals hearts. \nGraham is an award winning medium and works in Europe and The United States of America \n  \nThis event is in conjunction with Thistle 94 Events – Zoe Lowrie \n[contact-form-7 404 "Not Found"]
URL:https://test.grahammaclauren.co.uk/event/an-evening-of-psychic-clairvoyant-mediumship-4/
LOCATION:Fife
END:VEVENT
BEGIN:VEVENT
DTSTART;TZID=Europe/London:20230511T190000
DTEND;TZID=Europe/London:20230511T220000
DTSTAMP:20260421T141942
CREATED:20230227T180135Z
LAST-MODIFIED:20230227T222652Z
UID:2546-1683831600-1683842400@test.grahammaclauren.co.uk
SUMMARY:An Evening of Psychic Clairvoyant Mediumship
DESCRIPTION:Join us for an evening of Psychic Clairvoyant Mediumship with International award winning Psychic Medium Graham MacLauren. \nGraham will connect to the Spirit world and bring you evidence from your loved ones in the Spirit World showing they are near and around you. This will be a fun evening where we can heal hearts and unite families with thier loved ones in the Spirit World. \nShow begins at 7.30pm sharp
URL:https://test.grahammaclauren.co.uk/event/an-evening-of-psychic-clairvoyant-mediumship-3/
LOCATION:The South Beach Hotel\, 72 south beach\, TROON\, Ayrshire\, KA10 6EG\, United Kingdom
END:VEVENT
BEGIN:VEVENT
DTSTART;TZID=Europe/London:20230504T190000
DTEND;TZID=Europe/London:20230504T220000
DTSTAMP:20260421T141942
CREATED:20230227T175108Z
LAST-MODIFIED:20230304T010132Z
UID:2543-1683226800-1683237600@test.grahammaclauren.co.uk
SUMMARY:An Evening of Psychic Clairvoyant  Mediumship
DESCRIPTION:Join us for an evening of Psychic Clairvoyant Mediumship with International award winning Psychic Medium Graham MacLauren. \nGraham will connect to the Spirit world and bring you evidence from your loved ones in the Spirit World showing they are near and around you. This will be a fun evening where we can heal hearts and unite families with thier loved ones in the Spirit World. \nShow begins at 7.30pm sharp
URL:https://test.grahammaclauren.co.uk/event/2543/
LOCATION:Leith Dockers\, 17-17a Academy St\, Edinburgh\, Edinburgh\, EH6 7EE\, United Kingdom
END:VEVENT
BEGIN:VEVENT
DTSTART;TZID=Europe/London:20230428T190000
DTEND;TZID=Europe/London:20230428T220000
DTSTAMP:20260421T141942
CREATED:20230227T165834Z
LAST-MODIFIED:20230227T221914Z
UID:2526-1682708400-1682719200@test.grahammaclauren.co.uk
SUMMARY:An Evening of Psychic Clairvoyant Mediumship
DESCRIPTION:BOOK NOW – TICKETS WILL SELL FAST TO SEE THIS SCOTTISH MEDIUM \nInternational PSYCHIC CLAIRVOYANT MEDIUM Graham MacLauren \nJoin us us for an evening of Psychic enjoyment as Graham will connect to Spirit and then connect you with your loved ones in the Spirit World bringing messages from family and friends who have passed over. This is a fun filled evening and can also help heal\, unite hearts and families who have lost loved ones.
URL:https://test.grahammaclauren.co.uk/event/the-golden-lion/
LOCATION:The Golden Lion
END:VEVENT
BEGIN:VEVENT
DTSTART;TZID=Europe/London:20230420T190000
DTEND;TZID=Europe/London:20230420T220000
DTSTAMP:20260421T141942
CREATED:20230227T163216Z
LAST-MODIFIED:20230227T221712Z
UID:2517-1682017200-1682028000@test.grahammaclauren.co.uk
SUMMARY:An Evening of Psychic Clairvoyant Mediumship
DESCRIPTION:Join us for an evening of Psychic Clairvoyant Mediumship with international award winning Psychic Medium Graham MacLauren at THE SOO HOOSE lTD – THE CARRONBRIDGE INN. \nGraham will connect to the spirit world and bring your loved ones closer to you helping to heal hearts and unite families with their loved ones in The Spirit World. The Show begins at 7.30pm
URL:https://test.grahammaclauren.co.uk/event/an-evening-of-psychic-clairvoyance/
LOCATION:The Carronbridge Inn\, 691 Caron Road\, Falkirk\, FK2 7SR
END:VEVENT
BEGIN:VEVENT
DTSTART;TZID=Europe/London:20230331T193000
DTEND;TZID=Europe/London:20230331T220000
DTSTAMP:20260421T141942
CREATED:20230210T033856Z
LAST-MODIFIED:20230227T221456Z
UID:2110-1680291000-1680300000@test.grahammaclauren.co.uk
SUMMARY:An Evening of Psychic Clairvoyant Mediumship
DESCRIPTION:BACK BY POPULAR DEMAND!!!!!! \ninternational PSYCHIC CLAIRVOYANT MEDIUM Graham MacLauren  \njoin us us for an evening of Psychic fun as Grahm will connect to the Spirit World and connect you with your loved ones in The Spirit World and bring you messages from family and friends who have passed over into the Spirit World. This is a fun evening and can also help heal and unite hearts and families who have lost loved ones. \nplease visit our Facebook page THE SCOTTISH ENGINEERS for further information \nTICKETS cost £10 and can be purchased from the venue \nyou can also call us on 0131 332 4647  to reserve tickets \nShow begins 7.30pm sharp
URL:https://test.grahammaclauren.co.uk/event/an-evening-of-psychic-clairvoyant-mediumship-2/
LOCATION:The Scottish Engineers\, 76 Telford Road\, Edinburgh\, Crewe Toll\, EH4 2NF\, United Kingdom
END:VEVENT
BEGIN:VEVENT
DTSTART;TZID=Europe/London:20230321T190000
DTEND;TZID=Europe/London:20230321T210000
DTSTAMP:20260421T141942
CREATED:20230227T232121Z
LAST-MODIFIED:20230227T232222Z
UID:2600-1679425200-1679432400@test.grahammaclauren.co.uk
SUMMARY:Church Service - Shotts Spiritualist Church -  Community Centre Kirk Road\, Shotts
DESCRIPTION:Please join us if you can for our weekly church service. This week Graham MacLauren will be taking our service. Our service begins at 7.30pm and doors are open from 7.00pm \n  \nThe service is held at the Community Centre\, Kirk Road\, Shotts\, ML7 5ET \nThere is a small charge to attend the service \nFor further information please visit Facebook – Shotts Spiritualist Church \n  \nwe look forward to seeing you. Love light and blessings always
URL:https://test.grahammaclauren.co.uk/event/church-service-shotts-spiritualist-church-community-centre-kirk-road-shotts/
LOCATION:Fife
END:VEVENT
BEGIN:VEVENT
DTSTART;TZID=Europe/London:20230312T190000
DTEND;TZID=Europe/London:20230312T220000
DTSTAMP:20260421T141942
CREATED:20230210T030452Z
LAST-MODIFIED:20230227T222117Z
UID:2101-1678647600-1678658400@test.grahammaclauren.co.uk
SUMMARY:An Evening of Psychic Clairvoyant Mediumship
DESCRIPTION:Join us for an evening of Psychic Clairvoyant Mediumship with International award winning Psychic Medium Graham MacLauren. \n  \nGraham will connect to the Spirit world and bring you evidence from your loved ones in the Spirit World showing they are near and around you. This will be a fun evening where we can heal hearts and unite families with thier loved ones in the Spirit World. \nShow begins at 7.30pm sharp \nTickets are £9.00 \n  \nTICKETS CAN BE PURCHASED THROUGH THE VENUE. \nThe Scottie Bar and Restaurant\n100 Northfield Broadway\, Edinburgh EH8 7RU \nTelephome 0131 669 7244 \n 
URL:https://test.grahammaclauren.co.uk/event/an-evening-of-psychic-clairvoyant-mediumship/
LOCATION:The Scottie. {Now sold out}\, 100 Northfield Broadway\, Edinburgh\, Edinburgh City\, EH8 7RU\, United Kingdom
END:VEVENT
BEGIN:VEVENT
DTSTART;TZID=Europe/London:20230310T190000
DTEND;TZID=Europe/London:20230310T220000
DTSTAMP:20260421T141942
CREATED:20230210T024625Z
LAST-MODIFIED:20230227T222005Z
UID:2072-1678474800-1678485600@test.grahammaclauren.co.uk
SUMMARY:An Evening of Psychic Clairvoyant Mediumship
DESCRIPTION:Join us for an evening of Psychic Clairvoyant Mediumship with international award winning Psychic Medium Graham MacLauren. \n  \nGraham will connect to the spirit world and bring your loved ones closer to you helping to heal hearts and unite families with their loved ones in The Spirit World. The Show begins at 8pm \ntickets can be bought from Beancross farm or using the following link \nhttps://www.designmynight.com/uk/bars/Beancross-farm/an-evening-with-graham-maclauren?t=tickets \nYou can purchase tickets from Beancross Farm Restaurant on Facebook.
URL:https://test.grahammaclauren.co.uk/event/a-evening-of-clairyoyant-mediumship/
LOCATION:Beancross Farm\, West Beancross farm\, Polmont\, Falkirk\, FK2 0XS\, United Kingdom
END:VEVENT
BEGIN:VEVENT
DTSTART;TZID=Europe/London:20230305T180000
DTEND;TZID=Europe/London:20230305T203000
DTSTAMP:20260421T141942
CREATED:20230227T225730Z
LAST-MODIFIED:20230227T225730Z
UID:2598-1678039200-1678048200@test.grahammaclauren.co.uk
SUMMARY:Church Service - Alloa Spiritualist Church - Alloa Old People’s Welfare Hall
DESCRIPTION:Please join us if you can for our weekly church service. This week Graham MacLauren will be taking our service. Our service begins at 6.30pm and doors are open from 6.00pm \n  \nThe service is held at Alloa Old People’s Welfare Hall\, 44 Erskine Street\, Alloa FK10 2AU \nThe entrance fee is £3.00 \nFor further information please visit Facebook -Alloa Spiritualist Church \n  \nwe look forward to seeing you. Love light and blessings always
URL:https://test.grahammaclauren.co.uk/event/church-service-alloa-spiritualist-church-alloa-old-peoples-welfare-hall/
LOCATION:Fife
END:VEVENT
BEGIN:VEVENT
DTSTART;TZID=Europe/London:20230303T063000
DTEND;TZID=Europe/London:20230303T213000
DTSTAMP:20260421T141942
CREATED:20230227T224722Z
LAST-MODIFIED:20230227T224930Z
UID:2595-1677825000-1677879000@test.grahammaclauren.co.uk
SUMMARY:Church Service - Believe Psychic Healing Sanctuary- Townhead Glasgow
DESCRIPTION:Please join us if you can for our weekly church service. This week Graham MacLauren will be taking our service. \n  \nthe service is held at Believe Psychic Healing Sanctuary.  Service begins at 7pm \n60 St Mungo Avenue\, Glasgow\, G4 0PL \n  \nfor further information on the service and cost  please contact Anne Marie Keenan on 07902334221 \nwe look forward to seeing you. Love light and blessings always
URL:https://test.grahammaclauren.co.uk/event/church-service/
LOCATION:Fife
END:VEVENT
BEGIN:VEVENT
DTSTART;TZID=Europe/London:20230223T190000
DTEND;TZID=Europe/London:20230223T220000
DTSTAMP:20260421T141942
CREATED:20230216T180401Z
LAST-MODIFIED:20230216T190403Z
UID:2484-1677178800-1677189600@test.grahammaclauren.co.uk
SUMMARY:Shining Light Spiritualist church
DESCRIPTION:  \nBACK BY POPULAR DEMAND!!!! \nPlease join us if you can for an evening of Spiritual fun at Shining Light . Graham will deliver messages to you from your loved ones in the Spirit World. This is a fun evening and can help heal hearts and unite families with their loved ones who have passed over. \n  \npayment on the door upon entry \nservice is open to all \nService starts at 7.00m-9.00pm until
URL:https://test.grahammaclauren.co.uk/event/eternal-light/
LOCATION:Eternal Light\, The Cabin\, 7 South beach road\, Troon\, KA10 6EF\, United Kingdom
END:VEVENT
BEGIN:VEVENT
DTSTART;TZID=Europe/London:20230222T190000
DTEND;TZID=Europe/London:20230222T210000
DTSTAMP:20260421T141942
CREATED:20230216T174826Z
LAST-MODIFIED:20230216T174909Z
UID:2479-1677092400-1677099600@test.grahammaclauren.co.uk
SUMMARY:Eternal Light Christian Spiritualist Church
DESCRIPTION:Join us if you can for an evening of  Spiritual fun.  This is a church service where Graham will deliver messages form your loved ones in Spirit to show that life continues after a physical passing. \n  \nThe service is open to all \npayment is on the door \nThe service starts at 7.00pm
URL:https://test.grahammaclauren.co.uk/event/eternal-light-christian-spiritualist-church/
LOCATION:Maryhill Community Centre\, 35 Avenuepark street\, Glasgow\, G20 8TS\, United Kingdom
END:VEVENT
END:VCALENDAR